Workbook
Name спВидПерсонала: [1]Проверка!$B$2:$B$6
Name спГруппа: [1]Проверка!$A$2:$A$9
Name спПричина: [1]Проверка!$C$2:$C$4

Sheet на утверждение
C1: Отдел государственного | I1: УТВЕРЖДАЮ:
C2: энергетического надзора | I2: Заместитель руководителя
C3: и котлонадзора | I3: Центрального управления Ростехнадзора
C4: по Московской области
I5: А.С. Ефременков
I6: "_____"___________ 2026 года
C8: График проведения проверки знаний отраслевой территориальной комиссией Центрального управления
C9: Ростехнадзора по проверке знаний норм и правил в области энергетического надзора
C11: Дата проведения проверки знаний: 03.09.2026
C12: Место проведения: Москва, 1-й Басманный пер., д. 6, стр. 4
B14: № п/п | C14: Наименование организации | D14: Фамилия, имя, отчество, занимаемая должность и стаж работы в этой должности | E14: Причина проверки знаний | F14: Группа по электробезопасности (присваиваемая) | G14: Категория персонала | H14: Проверка знаний по следующим Правилам | I14: Время прибытия, час
B15: 1 | C15: =[2]Общая!E4 -> ООО "СЕВЕРНЫЙ ХОЛОД" | D15: =CONCATENATE([2]Общая!G4," ",[2]Общая!H4," ",[2]Общая!I4," ", [2]Общая!K4," ",[2]Общая!L4) -> Шевченко Роман Сергеевич инженер-механик | E15: =[2]Общая!M4 -> первичная | F15: =[2]Общая!R4 -> II до 1000 В | G15: =[2]Общая!N4 -> ремонтный персонал | H15: =[2]Общая!S4 -> ПТЭЭПЭЭ | I15: =[2]Общая!V4 -> 0.375
B16: 2 | C16: =[2]Общая!E5 -> ООО "СЕВЕРНЫЙ ХОЛОД" | D16: =CONCATENATE([2]Общая!G5," ",[2]Общая!H5," ",[2]Общая!I5," ", [2]Общая!K5," ",[2]Общая!L5) -> Бутримов Сергей Александрович инженер-механик | E16: =[2]Общая!M5 -> первичная | F16: =[2]Общая!R5 -> II до 1000 В | G16: =[2]Общая!N5 -> ремонтный персонал | H16: =[2]Общая!S5 -> ПТЭЭПЭЭ | I16: =[2]Общая!V5 -> 0.375
B17: 3 | C17: =[2]Общая!E6 -> ООО "РОЗТЕХ" | D17: =CONCATENATE([2]Общая!G6," ",[2]Общая!H6," ",[2]Общая!I6," ", [2]Общая!K6," ",[2]Общая!L6) -> Семенов Станислав Сергеевич Главный инженер | E17: =[2]Общая!M6 -> первичная | F17: =[2]Общая!R6 -> II до 1000 В | G17: =[2]Общая!N6 -> административно—технический персонал | H17: =[2]Общая!S6 -> ПТЭЭПЭЭ | I17: =[2]Общая!V6 -> 0.375
B18: 4 | C18: =[2]Общая!E7 -> ООО "ЛАВСТИЛ" | D18: =CONCATENATE([2]Общая!G7," ",[2]Общая!H7," ",[2]Общая!I7," ", [2]Общая!K7," ",[2]Общая!L7) -> Тарасов Сергей Иванович старший мастер цеха | E18: =[2]Общая!M7 -> внеочередная | F18: =[2]Общая!R7 -> III до 1000 В | G18: =[2]Общая!N7 -> административно—технический персонал | H18: =[2]Общая!S7 -> ПТЭЭПЭЭ | I18: =[2]Общая!V7 -> 0.375
B19: 5 | C19: =[2]Общая!E8 -> ООО "АВАНГАРД II" | D19: =CONCATENATE([2]Общая!G8," ",[2]Общая!H8," ",[2]Общая!I8," ", [2]Общая!K8," ",[2]Общая!L8) -> Шелобод Евгений Николаевич Старший администратор | E19: =[2]Общая!M8 -> очередная | F19: =[2]Общая!R8 -> II до 1000 В | G19: =[2]Общая!N8 -> оперативно-ремонтный персонал | H19: =[2]Общая!S8 -> ПТЭЭПЭЭ | I19: =[2]Общая!V8 -> 0.375
B20: 6 | C20: =[2]Общая!E9 -> ООО "АВТОМОЛ" | D20: =CONCATENATE([2]Общая!G9," ",[2]Общая!H9," ",[2]Общая!I9," ", [2]Общая!K9," ",[2]Общая!L9) -> Масалимов Мазит Назифович Начальник участка водителей | E20: =[2]Общая!M9 -> первичная | F20: =[2]Общая!R9 -> II до 1000 В | G20: =[2]Общая!N9 -> административно—технический персонал | H20: =[2]Общая!S9 -> ПТЭЭПЭЭ | I20: =[2]Общая!V9 -> 0.375
B21: 7 | C21: =[2]Общая!E10 -> МП "ТЕПЛОЦЕНТРАЛЬ" | D21: =CONCATENATE([2]Общая!G10," ",[2]Общая!H10," ",[2]Общая!I10," ", [2]Общая!K10," ",[2]Общая!L10) -> Бирюков Евгений Олегович Главный энергетик | E21: =[2]Общая!M10 -> очередная | F21: =[2]Общая!R10 -> IV до и выше 1000 В | G21: =[2]Общая!N10 -> административно—технический персонал | H21: =[2]Общая!S10 -> ПТЭЭПЭЭ | I21: =[2]Общая!V10 -> 0.375
B22: 8 | C22: =[2]Общая!E11 -> ООО "АВТОМОЛ" | D22: =CONCATENATE([2]Общая!G11," ",[2]Общая!H11," ",[2]Общая!I11," ", [2]Общая!K11," ",[2]Общая!L11) -> Валеев Александр Дыфарович Руководитель по административно-хозяйственной части | E22: =[2]Общая!M11 -> очередная | F22: =[2]Общая!R11 -> IV до 1000 В | G22: =[2]Общая!N11 -> административно—технический персонал | H22: =[2]Общая!S11 -> ПТЭЭПЭЭ | I22: =[2]Общая!V11 -> 0.375
B23: 9 | C23: =[2]Общая!E12 -> ГБУЗ МОСКОВСКОЙ ОБЛАСТИ "ПАВЛОВО-ПОСАДСКАЯ БОЛЬНИЦА" | D23: =CONCATENATE([2]Общая!G12," ",[2]Общая!H12," ",[2]Общая!I12," ", [2]Общая!K12," ",[2]Общая!L12) -> Иванов Александр Витальевич Начальник Хозяйственной службы | E23: =[2]Общая!M12 -> внеочередная | F23: =[2]Общая!R12 -> IV до 1000 В | G23: =[2]Общая!N12 -> административно—технический персонал | H23: =[2]Общая!S12 -> ПТЭЭПЭЭ | I23: =[2]Общая!V12 -> 0.375
B24: 10 | C24: =[2]Общая!E13 -> ГБУЗ МОСКОВСКОЙ ОБЛАСТИ "ПАВЛОВО-ПОСАДСКАЯ БОЛЬНИЦА" | D24: =CONCATENATE([2]Общая!G13," ",[2]Общая!H13," ",[2]Общая!I13," ", [2]Общая!K13," ",[2]Общая!L13) -> Заруднева Елена Евгеньевна Ведущий инженер по охране труда | E24: =[2]Общая!M13 -> внеочередная | F24: =[2]Общая!R13 -> IV до 1000 В | G24: =[2]Общая!N13 -> контролирующий электроустановки | H24: =[2]Общая!S13 -> ПТЭЭПЭЭ | I24: =[2]Общая!V13 -> 0.375
B25: 11 | C25: =[2]Общая!E14 -> ГБУЗ МОСКОВСКОЙ ОБЛАСТИ "ПАВЛОВО-ПОСАДСКАЯ БОЛЬНИЦА" | D25: =CONCATENATE([2]Общая!G14," ",[2]Общая!H14," ",[2]Общая!I14," ", [2]Общая!K14," ",[2]Общая!L14) -> Сибиряков Александр Ильич начальник отдела по безопасности | E25: =[2]Общая!M14 -> первичная | F25: =[2]Общая!R14 -> II до 1000 В | G25: =[2]Общая!N14 -> административно—технический персонал | H25: =[2]Общая!S14 -> ПТЭЭПЭЭ | I25: =[2]Общая!V14 -> 0.375
B26: 12 | C26: =[2]Общая!E15 -> ООО "ЗДОРОВЬЕ +" | D26: =CONCATENATE([2]Общая!G15," ",[2]Общая!H15," ",[2]Общая!I15," ", [2]Общая!K15," ",[2]Общая!L15) -> Махалин Александр Иванович Мастер службы технического обеспечения | E26: =[2]Общая!M15 -> очередная | F26: =[2]Общая!R15 -> IV до 1000 В | G26: =[2]Общая!N15 -> административно—технический персонал | H26: =[2]Общая!S15 -> ПТЭЭПЭЭ | I26: =[2]Общая!V15 -> 0.375
... B38: 24 | C38: =[2]Общая!E27 -> ООО "ПНЕВМАКС СИСТЕМЫ" | D38: =CONCATENATE([2]Общая!G27," ",[2]Общая!H27," ",[2]Общая!I27," ", [2]Общая!K27," ",[2]Общая!L27) -> Сазанов Алексей Игоревич Начальник производства | E38: =[2]Общая!M27 -> очередная | F38: =[2]Общая!R27 -> IV до 1000 В | G38: =[2]Общая!N27 -> административно—технический персонал | H38: =[2]Общая!S27 -> ПТЭЭПЭЭ | I38: =[2]Общая!V27 -> 0.39583333
B39: 25 | C39: ООО "ФИТОКОСМЕТИК" | D39: =CONCATENATE([2]Общая!G28," ",[2]Общая!H28," ",[2]Общая!I28," ", [2]Общая!K28," ",[2]Общая!L28) -> Яковлев Юрий Петрович инженер-электроник | E39: =[2]Общая!M28 -> внеочередная | F39: =[2]Общая!R28 -> III до 1000 В | G39: =[2]Общая!N28 -> административно—технический персонал | H39: =[2]Общая!S28 -> ПТЭЭПЭЭ | I39: =[2]Общая!V28 -> 0.39583333
B40: 26 | C40: =[2]Общая!E29 -> ООО "ПНЕВМАКС СИСТЕМЫ" | D40: =CONCATENATE([2]Общая!G29," ",[2]Общая!H29," ",[2]Общая!I29," ", [2]Общая!K29," ",[2]Общая!L29) -> Сазанов Роман Игоревич Начальник сборочного цеха | E40: =[2]Общая!M29 -> очередная | F40: =[2]Общая!R29 -> IV до 1000 В | G40: =[2]Общая!N29 -> административно—технический персонал | H40: =[2]Общая!S29 -> ПТЭЭПЭЭ | I40: =[2]Общая!V29 -> 0.39583333
B41: 27 | C41: =[2]Общая!E30 -> ООО "ПНЕВМАКС СИСТЕМЫ" | D41: =CONCATENATE([2]Общая!G30," ",[2]Общая!H30," ",[2]Общая!I30," ", [2]Общая!K30," ",[2]Общая!L30) -> Сафонов Антон Игоревич Начальник цеха металлоконструкций | E41: =[2]Общая!M30 -> очередная | F41: =[2]Общая!R30 -> IV до 1000 В | G41: =[2]Общая!N30 -> административно—технический персонал | H41: =[2]Общая!S30 -> ПТЭЭПЭЭ | I41: =[2]Общая!V30 -> 0.39583333
B42: 28 | C42: =[2]Общая!E31 -> ООО "ПНЕВМАКС СИСТЕМЫ" | D42: =CONCATENATE([2]Общая!G31," ",[2]Общая!H31," ",[2]Общая!I31," ", [2]Общая!K31," ",[2]Общая!L31) -> Малородов Александр Александрович Заместитель руководителя сервисного отдела | E42: =[2]Общая!M31 -> очередная | F42: =[2]Общая!R31 -> IV до 1000 В | G42: =[2]Общая!N31 -> административно—технический персонал | H42: =[2]Общая!S31 -> ПТЭЭПЭЭ | I42: =[2]Общая!V31 -> 0.39583333
B43: 29 | C43: =[2]Общая!E32 -> ООО "ПНЕВМАКС СИСТЕМЫ" | D43: =CONCATENATE([2]Общая!G32," ",[2]Общая!H32," ",[2]Общая!I32," ", [2]Общая!K32," ",[2]Общая!L32) -> Клепикова Дарья Николаевна Специалист по охране труда и производственной безопасности | E43: =[2]Общая!M32 -> первичная | F43: =[2]Общая!R32 -> II до 1000 В | G43: =[2]Общая!N32 -> административно—технический персонал | H43: =[2]Общая!S32 -> ПТЭЭПЭЭ | I43: =[2]Общая!V32 -> 0.39583333
B44: 30 | C44: =[2]Общая!E33 -> ООО «ПОДМОСКОВЬЕ-ГСА» | D44: =CONCATENATE([2]Общая!G33," ",[2]Общая!H33," ",[2]Общая!I33," ", [2]Общая!K33," ",[2]Общая!L33) -> Хрусталев Сергей Михайлович Инженер АСУ ТП | E44: =[2]Общая!M33 -> внеочередная | F44: =[2]Общая!R33 -> III до 1000 В | G44: =[2]Общая!N33 -> административно—технический персонал | H44: =[2]Общая!S33 -> ПТЭЭПЭЭ | I44: =[2]Общая!V33 -> 0.39583333
B45: 31 | C45: =[2]Общая!E34 -> ООО «ПОДМОСКОВЬЕ-ГСА» | D45: =CONCATENATE([2]Общая!G34," ",[2]Общая!H34," ",[2]Общая!I34," ", [2]Общая!K34," ",[2]Общая!L34) -> Сухарев Вадим Андреевич Мастер по обслуживанию и ремонту газового оборудования | E45: =[2]Общая!M34 -> очередная | F45: =[2]Общая!R34 -> III до 1000 В | G45: =[2]Общая!N34 -> ремонтный персонал | H45: =[2]Общая!S34 -> ПТЭЭПЭЭ | I45: =[2]Общая!V34 -> 0.39583333
B46: 32 | C46: =[2]Общая!E35 -> ООО «ПОДМОСКОВЬЕ-ГСА» | D46: =CONCATENATE([2]Общая!G35," ",[2]Общая!H35," ",[2]Общая!I35," ", [2]Общая!K35," ",[2]Общая!L35) -> Полухов Егор Александрович Мастер по обслуживанию и ремонту газового оборудования | E46: =[2]Общая!M35 -> очередная | F46: =[2]Общая!R35 -> III до 1000 В | G46: =[2]Общая!N35 -> ремонтный персонал | H46: =[2]Общая!S35 -> ПТЭЭПЭЭ | I46: =[2]Общая!V35 -> 0.39583333
B47: 33 | C47: =[2]Общая!E36 -> ООО «ПОДМОСКОВЬЕ-ГСА» | D47: =CONCATENATE([2]Общая!G36," ",[2]Общая!H36," ",[2]Общая!I36," ", [2]Общая!K36," ",[2]Общая!L36) -> Чижов Игорь Константинович Инженер по обслуживанию и ремонту газового оборудования | E47: =[2]Общая!M36 -> очередная | F47: =[2]Общая!R36 -> IV до 1000 В | G47: =[2]Общая!N36 -> ремонтный персонал | H47: =[2]Общая!S36 -> ПТЭЭПЭЭ | I47: =[2]Общая!V36 -> 0.39583333
B48: 34 | C48: =[2]Общая!E37 -> ООО "ФИТОКОСМЕТИК" | D48: =CONCATENATE([2]Общая!G37," ",[2]Общая!H37," ",[2]Общая!I37," ", [2]Общая!K37," ",[2]Общая!L37) -> Провозин Кирилл Владимирович инженер-механик | E48: =[2]Общая!M37 -> внеочередная | F48: =[2]Общая!R37 -> III до 1000 В | G48: =[2]Общая!N37 -> административно—технический персонал | H48: =[2]Общая!S37 -> ПТЭЭПЭЭ | I48: =[2]Общая!V37 -> 0.39583333
B49: 35 | C49: =[2]Общая!E38 -> ООО "МЭЙДЖОР ТЕРМИНАЛ" | D49: =CONCATENATE([2]Общая!G38," ",[2]Общая!H38," ",[2]Общая!I38," ", [2]Общая!K38," ",[2]Общая!L38) -> Федоров Андрей Николаевич Специалист по эксплуатации | E49: =[2]Общая!M38 -> очередная | F49: =[2]Общая!R38 -> IV до 1000 В | G49: =[2]Общая!N38 -> оперативно-ремонтный персонал | H49: =[2]Общая!S38 -> ПТЭЭПЭЭ | I49: =[2]Общая!V38 -> 0.39583333
B50: 36 | C50: =[2]Общая!E39 -> ООО "ВАЛДЕКС" | D50: =CONCATENATE([2]Общая!G39," ",[2]Общая!H39," ",[2]Общая!I39," ", [2]Общая!K39," ",[2]Общая!L39) -> Зайченко Дмитрий Викторович Инженер КИПиА | E50: =[2]Общая!M39 -> внеочередная | F50: =[2]Общая!R39 -> IV до 1000 В | G50: =[2]Общая!N39 -> административно—технический персонал | H50: =[2]Общая!S39 -> ПТЭЭПЭЭ | I50: =[2]Общая!V39 -> 0.39583333
B51: 37 | C51: =[2]Общая!E40 -> ООО "ВАЛДЕКС" | D51: =CONCATENATE([2]Общая!G40," ",[2]Общая!H40," ",[2]Общая!I40," ", [2]Общая!K40," ",[2]Общая!L40) -> Жандаров Владимир Николаевич Мастер | E51: =[2]Общая!M40 -> первичная | F51: =[2]Общая!R40 -> II до 1000 В | G51: =[2]Общая!N40 -> административно—технический персонал | H51: =[2]Общая!S40 -> ПТЭЭПЭЭ | I51: =[2]Общая!V40 -> 0.39583333
... B155: 141 | C155: =[2]Общая!E144 -> Индивидуальный предприниматель СОРОКИН ЕВГЕНИЙ АЛЕКСАНДРОВИЧ | D155: =CONCATENATE([2]Общая!G144," ",[2]Общая!H144," ",[2]Общая!I144," ", [2]Общая!K144," ",[2]Общая!L144) -> Сорокин Евгений Александрович Индивидуальный предприниматель | E155: =[2]Общая!M144 -> очередная | F155: =[2]Общая!R144 -> IV до 1000 В | G155: =[2]Общая!N144 -> административно—технический персонал | H155: =[2]Общая!S144 -> ПТЭЭПЭЭ | I155: =[2]Общая!V144 -> 0.47916667
D156: Начальник отдела Перегудин Э.Е.
